BEGIN:VCALENDAR
VERSION:2.0
PRODID:-//Plone.org//NONSGML plone.app.event//EN
X-WR-TIMEZONE:Europe/Rome
BEGIN:VEVENT
SUMMARY:Convocazione del Consiglio Metropolitano 5 agosto 2021
DTSTART;TZID=Europe/Rome;VALUE=DATE-TIME:20210805T180000
DTSTAMP;VALUE=DATE-TIME:20260423T235205Z
UID:e2744e93bc6a448a92614dd9dead4aea@10.11.22.10:8081
CREATED;VALUE=DATE-TIME:20210727T072759Z
LAST-MODIFIED;VALUE=DATE-TIME:20210803T102546Z
LOCATION:Aula Consiliare di Palazzo “Corrado Alvaro”
URL:https://old.cittametropolitana.rc.it/citta/consiglio-metropolitano/con
 vocazioni-del-consiglio-metropolitano/convocazione-del-consiglio-metropoli
 tano-50/convocazione-del-consiglio-metropolitano-5-agosto-2021
END:VEVENT
BEGIN:VTIMEZONE
TZID:Europe/Rome
X-LIC-LOCATION:Europe/Rome
BEGIN:DAYLIGHT
DTSTART;VALUE=DATE-TIME:20210328T030000
TZNAME:CEST
TZOFFSETFROM:+0100
TZOFFSETTO:+0200
END:DAYLIGHT
END:VTIMEZONE
END:VCALENDAR
